BEGIN:VCALENDAR
VERSION:2.0
PRODID:-//ChamberMaster//Event Calendar 2.0//EN
METHOD:PUBLISH
X-PUBLISHED-TTL:P3D
REFRESH-INTERVAL:P3D
CALSCALE:GREGORIAN
BEGIN:VEVENT
DTSTART:20260516T120000Z
DTEND:20260516T150000Z
X-MICROSOFT-CDO-ALLDAYEVENT:FALSE
SUMMARY:The Savannah Mile
DESCRIPTION:The Savannah Mile returns for 2026! This highly-anticipated race is scheduled for 8 a.m. Saturday\, May 16th\, as part of National Law Enforcement Week. The one-mile course\, beginning at the south end of Forsyth Park\, will take participants down Drayton Street and finish up on Broughton Street. Featuring six unique heats for all ages and abilities\, including the "Memory Walk" and "Heroes Heat"\, you won't want to miss this event. All proceeds benefit the families of our Fallen First Responders that the 200 Club proudly serves
X-ALT-DESC;FMTTYPE=text/html:The Savannah Mile returns for 2026! This highly-anticipated race is scheduled for 8 a.m. Saturday\, May 16th\, as part of National Law Enforcement Week. The one-mile course\, beginning at the south end of Forsyth Park\, will take participants down Drayton Street and finish up on Broughton Street. Featuring six unique heats for all ages and abilities\, including the &quot\;Memory Walk&quot\; and &quot\;Heroes Heat&quot\;\, you won&#39\;t want to miss this event. All proceeds benefit the families of our Fallen First Responders that the 200 Club proudly serves
LOCATION:Forsyth Park\, Savannah\, Georgia Drayton Street & East Park Avenue
UID:e.620.18207
SEQUENCE:3
DTSTAMP:20260422T142531Z
URL:https://chamber.brunswickgoldenisleschamber.com/events/details/the-savannah-mile-18207
END:VEVENT

END:VCALENDAR
