BEGIN:VCALENDAR
VERSION:2.0
PRODID:-//ChamberMaster//Event Calendar 2.0//EN
METHOD:PUBLISH
X-PUBLISHED-TTL:P3D
REFRESH-INTERVAL:P3D
CALSCALE:GREGORIAN
BEGIN:VEVENT
DTSTART:20260424T223000Z
DTEND:20260425T010000Z
X-MICROSOFT-CDO-ALLDAYEVENT:FALSE
SUMMARY:Sip N Paint - For Veterans with the American Legion Auxiliary Unit 9
DESCRIPTION:We provide the supplies and guidance for you to create your masterpiece. This month we're painting a beautiful sunflower close-up! Click the Facebook link below to see the painting. Mocktails\, Charcuterie board and all painting supplies provided. Donations help support veterans programs.
X-ALT-DESC;FMTTYPE=text/html:We provide the supplies and guidance for you to create your masterpiece. This month we&#39\;re painting a beautiful sunflower close-up! Click the Facebook link below to see the painting. Mocktails\, Charcuterie board and all painting supplies provided. Donations help support veterans programs.
LOCATION:The American Legion Post 9 4470 Hwy 17 N Brunswick
UID:e.620.18214
SEQUENCE:3
DTSTAMP:20260421T171857Z
URL:https://chamber.brunswickgoldenisleschamber.com/events/details/sip-n-paint-for-veterans-with-the-american-legion-auxiliary-unit-9-18214
END:VEVENT

END:VCALENDAR
