BEGIN:VCALENDAR
VERSION:2.0
PRODID:-//ChamberMaster//Event Calendar 2.0//EN
METHOD:PUBLISH
X-PUBLISHED-TTL:P3D
REFRESH-INTERVAL:P3D
CALSCALE:GREGORIAN
BEGIN:VEVENT
DTSTART:20221125T223000Z
DTEND:20221125T233000Z
X-MICROSOFT-CDO-ALLDAYEVENT:FALSE
SUMMARY:Historic Downtown Brunswick Annual Tree Lighting
DESCRIPTION:Historic Downtown Brunswick's Christmas Tree Lighting has become a family tradition. Beginning at 5:30 PM at Jekyll Square East on Newcastle Street\, we will gather together for the lighting of the Christmas tree.\n\n\n\nThen\, as tradition goes\, there will be the reading of "'Twas the Night Before Christmas"\, followed by Christmas carols\, carriage rides\, and a visit from Santa.
X-ALT-DESC;FMTTYPE=text/html:<p style="text-align:justify">Historic Downtown Brunswick&#39\;s Christmas Tree Lighting has become a family tradition. Beginning at 5:30 PM at Jekyll Square East on Newcastle Street\, we will gather together for the lighting of the Christmas tree.<br />\n<br />\nThen\, as tradition goes\, there will be the reading of &quot\;&#39\;Twas the Night Before Christmas&quot\;\, followed&nbsp\;by Christmas carols\, carriage rides\, and a visit from Santa.</p>\n
LOCATION:Jekyll Square East
UID:e.620.12766
SEQUENCE:3
DTSTAMP:20260424T032812Z
URL:https://chamber.brunswickgoldenisleschamber.com/events/details/historic-downtown-brunswick-annual-tree-lighting-11-25-2022-12766
END:VEVENT

END:VCALENDAR
