BEGIN:VCALENDAR
VERSION:2.0
PRODID:-//ChamberMaster//Event Calendar 2.0//EN
METHOD:PUBLISH
X-PUBLISHED-TTL:P3D
REFRESH-INTERVAL:P3D
CALSCALE:GREGORIAN
BEGIN:VEVENT
DTSTART:20260312T203000Z
DTEND:20260312T210000Z
X-MICROSOFT-CDO-ALLDAYEVENT:FALSE
SUMMARY:Gardner Printing Services Ribbon Cutting
DESCRIPTION:We are excited to invite you to the Ribbon Cutting of Gardner Printing Services on Thursday\, March 12th at 4:30pm!\n\n                Location: 3362 Cypress Mill Rd. UNIT D Brunswick\, GA 31520\n\n\n\nGardner Printing Services is a new business in the Brunswick\, Glynn County and Golden Isles area. Our main location\, in Baxley\, opened in 2017. The company offers a host of services including business printing\, signs\, apparel and promotional products. We can handle projects as simple as printing business cards\, to decorating or embroidering apparel products\, to installing full LED scoreboards at football stadiums.\n\n\n\nGardner Printing Services would like to invite the Brunswick-Golden Isles Chamber of Commerce\, its members\, and the public to come celebrate the company's Brunswick Grand Opening and Ribbon Cutting on March 12th at 4:30 p.m. The newly renovated office is located at 3362 Cypress Mill Road\, Unit D\, Brunswick\, GA 31520 (next to Fancy Q's). The telephone number is 912-514-6229. \n\n\n\nAngela Stalvey is part owner and COO for the Brunswick location. Her husband\, Keith Stalvey\, is a Lieutenant with the Glynn County Police Department and they have been part of the Brunswick community since 1998. They have one daughter\, Keegan. Angela's sister\, Amy Gardner\, and her husband\, Jamie Gardner\, of Baxley\, are also partners in this new business venture.\n\n\n\nThere will be light refreshments and door prizes including a $250.00 gift certificate for products from Gardner Printing Services (signs\, apparel\, or printed products)\, a 32qt. RTIC cooler and other great prizes. Come join the fun March 12th!\n\n \n\nWe hope to see you there!
X-ALT-DESC;FMTTYPE=text/html:<p data-end="219" data-start="78">We are excited to invite you to the Ribbon Cutting of <strong>Gardner Printing Services</strong> on <strong>Thursday\, March 12<sup>th</sup> at 4:30pm</strong>!<br />\n&nbsp\;&nbsp\;&nbsp\;&nbsp\;&nbsp\;&nbsp\;&nbsp\;&nbsp\;&nbsp\;&nbsp\;&nbsp\;&nbsp\;&nbsp\;&nbsp\;&nbsp\; <strong>Location: </strong>3362 Cypress Mill Rd. <span style="background:yellow\;">UNIT D</span> Brunswick\, GA 31520<br />\n<br />\nGardner Printing Services is a new business in the Brunswick\, Glynn County and Golden Isles area. Our main location\, in Baxley\, opened in 2017. The company offers a host of services including business printing\, signs\, apparel and promotional products. We can handle projects as simple as printing business cards\, to decorating or embroidering apparel products\, to installing full LED scoreboards at football stadiums.<br />\n<br />\nGardner Printing Services would like to invite the Brunswick-Golden Isles Chamber of Commerce\, its members\, and the public to come celebrate the company&#39\;s Brunswick Grand Opening and Ribbon Cutting on March 12th at 4:30 p.m. The newly renovated office is located at 3362 Cypress Mill Road\, Unit D\, Brunswick\, GA 31520 (next to Fancy Q&#39\;s). The telephone number is 912-514-6229.&nbsp\;<br />\n<br />\nAngela Stalvey is part owner and COO for the Brunswick location. Her husband\, Keith Stalvey\, is a Lieutenant with the Glynn County Police Department and they have been part of the Brunswick community since 1998. They have one daughter\, Keegan. Angela&#39\;s sister\, Amy Gardner\, and her husband\, Jamie Gardner\, of Baxley\, are also partners in this new business venture.<br />\n<br />\nThere will be <strong>light refreshments and door prizes including a $250.00 gift certificate</strong> for products from Gardner Printing Services (signs\, apparel\, or printed products)\, a 32qt. RTIC cooler and other great prizes. Come join the fun March 12<sup>th</sup>!<br />\n&nbsp\;<br />\nWe hope to see you there!</p>\n
LOCATION:Location: 3362 Cypress Mill Rd. UNIT D Brunswick\, GA 31520
UID:e.620.18053
SEQUENCE:3
DTSTAMP:20260423T155818Z
URL:https://chamber.brunswickgoldenisleschamber.com/events/details/gardner-printing-services-ribbon-cutting-18053
END:VEVENT

END:VCALENDAR
