BEGIN:VCALENDAR
VERSION:2.0
PRODID:-//ChamberMaster//Event Calendar 2.0//EN
METHOD:PUBLISH
X-PUBLISHED-TTL:P3D
REFRESH-INTERVAL:P3D
CALSCALE:GREGORIAN
BEGIN:VEVENT
DTSTART:20260420T040000Z
DTEND:20260504T040000Z
X-MICROSOFT-CDO-ALLDAYEVENT:FALSE
SUMMARY:Fashion & Accessories Sale (Vendor: Retail Concepts)
DESCRIPTION:Our Volunteer Services are partnering with Retail Concepts to host an online Fashion & Accessories Sale! Shop apparel\, accessories\, electronics\, kitchen items\, linens\, and more at SGHSsale.com from now through May 4\, 2026. Simply create an account at the top of the page to browse items and view pricing. All purchases include free shipping\, and a portion of proceeds benefits Southeast Georgia Health System. Cash and most major credit cards are accepted.\n\nQuestions? Contact Kristin Doll\, CDVS\, Director of Volunteer Services\, at 912-466-1071 or kdoll@sghs.org.
X-ALT-DESC;FMTTYPE=text/html:<p>Our Volunteer Services are partnering with Retail Concepts to host an online Fashion &amp\; Accessories Sale! Shop apparel\, accessories\, electronics\, kitchen items\, linens\, and more at&nbsp\;<a href="https://goldcoastsale.com/pages/sghs" rel="noopener" style="box-sizing: border-box\; background-color: transparent\; font-weight: 700\; color: rgb(0\, 103\, 143)\; transition: 0.3s\; text-decoration: none\;" target="_blank">SGHSsale.com</a>&nbsp\;from now through May 4\, 2026. Simply create an account at the top of the page to browse items and view pricing. All purchases include free shipping\, and a portion of proceeds benefits Southeast Georgia Health System. Cash and most major credit cards are accepted.</p>\n\n<p>Questions? Contact Kristin Doll\, CDVS\, Director of Volunteer Services\, at&nbsp\;<a href="tel:+19124661071" style="box-sizing: border-box\; background-color: transparent\; font-weight: 700\; color: rgb(0\, 103\, 143)\; transition: 0.3s\; text-decoration: none\;">912-466-1071</a>&nbsp\;or&nbsp\;<a class="decorated-link cursor-pointer" href="mailto:%20kdoll@sghs.org" rel="noopener" style="box-sizing: border-box\; background-color: transparent\; font-weight: 700\; color: rgb(0\, 103\, 143)\; transition: 0.3s\; text-decoration: none\;" target="_blank">kdoll@sghs.org</a>.</p>\n
LOCATION:SGHSsale.com
UID:e.620.18212
SEQUENCE:3
DTSTAMP:20260420T173310Z
URL:https://chamber.brunswickgoldenisleschamber.com/events/details/fashion-accessories-sale-vendor-retail-concepts-18212
END:VEVENT

END:VCALENDAR
