BEGIN:VCALENDAR
VERSION:2.0
PRODID:-//ChamberMaster//Event Calendar 2.0//EN
METHOD:PUBLISH
X-PUBLISHED-TTL:P3D
REFRESH-INTERVAL:P3D
CALSCALE:GREGORIAN
BEGIN:VEVENT
DTSTART:20260512T180000Z
DTEND:20260512T190000Z
X-MICROSOFT-CDO-ALLDAYEVENT:FALSE
SUMMARY:Cassina Garden Club Ribbon Cutting & Unveiling Ceremony
DESCRIPTION:Join us for the Ribbon Cutting and Unveiling Ceremony hosted by the Cassina Garden Club on Tuesday\, May 12\, 2026 at 2:00 PM.\n\nCelebrate the unveiling of the new Interpretive Sign Display\, a project dedicated to connecting and honoring the island's rich and shared history. This meaningful addition highlights the cultural heritage and stories that have shaped St. Simons Island into the community it is today.\n\nEvent Details:\n\n  Ceremony: The unveiling will take place at the pier flagpole in Neptune Park\, bringing together community members\, leaders\, and guests\n\n  Reception: A reception will follow at the St. Simons Casino Building with light refreshments\n\nWe hope you will join us for this special occasion celebrating the shared history of St. Simons Island!!
X-ALT-DESC;FMTTYPE=text/html:<p data-end="291" data-start="163">Join us for the Ribbon Cutting and Unveiling Ceremony hosted by the Cassina Garden Club on <strong data-end="290" data-start="254">Tuesday\, May 12\, 2026 at 2:00 PM</strong>.</p>\n\n<p data-end="651" data-start="368">Celebrate the unveiling of the new Interpretive Sign Display\, a project dedicated to connecting and honoring the island&rsquo\;s rich and shared history. This meaningful addition highlights the cultural heritage and stories that have shaped St. Simons Island into the community it is today.</p>\n\n<p data-end="917" data-start="653"><strong data-end="671" data-start="653">Event Details:</strong><br data-end="674" data-start="671" />\n&bull\; <strong data-end="689" data-start="676">Ceremony:</strong> The unveiling will take place at the pier flagpole in Neptune Park\, bringing together community members\, leaders\, and guests<br data-end="817" data-start="814" />\n&bull\; <strong data-end="833" data-start="819">Reception:</strong> A reception will follow at the St. Simons Casino Building with light refreshments</p>\n\n<p data-end="1022" data-start="919">We hope you will join us for this special occasion celebrating the shared history of St. Simons Island!!</p>\n
LOCATION:Location: Neptune Park (Pier Flagpole) St. Simons Island\, GA
UID:e.620.18210
SEQUENCE:3
DTSTAMP:20260422T144247Z
URL:https://chamber.brunswickgoldenisleschamber.com/events/details/cassina-garden-club-ribbon-cutting-unveiling-ceremony-18210
END:VEVENT

END:VCALENDAR
