BEGIN:VCALENDAR
VERSION:2.0
PRODID:-//ChamberMaster//Event Calendar 2.0//EN
METHOD:PUBLISH
X-PUBLISHED-TTL:P3D
REFRESH-INTERVAL:P3D
CALSCALE:GREGORIAN
BEGIN:VEVENT
DTSTART:20260225T140000Z
DTEND:20260225T190000Z
X-MICROSOFT-CDO-ALLDAYEVENT:FALSE
SUMMARY:2026 Chamber Broadfield Clay Shoot
DESCRIPTION:Join the Chamber for our fourth annual Broadfield Clay Shoot! The one-day tournament will take place at Sea Island's Broadfield 5\,800-acre Sporting Club and Lodge\, the day prior to their Annual Seminole Cup Clay Shooting Tournament. All the benefits of playing in the Seminole Cup\, but an opportunity to support YOUR Chamber.
X-ALT-DESC;FMTTYPE=text/html:<p><span style="font-family:arial\;"><span style="font-size: 14px\;">Join the Chamber for our fourth annual Broadfield Clay Shoot! The one-day tournament will take place at Sea Island&#39\;s Broadfield&nbsp\;<span style="color: rgb(0\, 0\, 0)\; white-space-collapse: preserve\;">5\,800-acre Sporting Club and Lodge\, </span>the day prior to their Annual Seminole Cup Clay Shooting Tournament. All the benefits of playing in the Seminole Cup\, but an opportunity to support YOUR Chamber.&nbsp\;</span></span><br />\n&nbsp\;</p>\n
LOCATION:Sea Island's Broadfield
UID:e.620.16702
SEQUENCE:3
DTSTAMP:20260420T155856Z
URL:https://chamber.brunswickgoldenisleschamber.com/events/details/2026-chamber-broadfield-clay-shoot-16702
END:VEVENT

END:VCALENDAR
