BEGIN:VCALENDAR
VERSION:2.0
PRODID:-//ChamberMaster//Event Calendar 2.0//EN
METHOD:PUBLISH
X-PUBLISHED-TTL:P3D
REFRESH-INTERVAL:P3D
CALSCALE:GREGORIAN
BEGIN:VEVENT
DTSTART;VALUE=DATE:20250217
DTEND;VALUE=DATE:20250220
TRANSP:TRANSPARENT
X-MICROSOFT-CDO-ALLDAYEVENT:TRUE
SUMMARY:2025 State Capitol Visit
DESCRIPTION:Business leaders and elected officials from Brunswick and Glynn County will host a dinner at The Depot for key members of the Georgia General Assembly and officials of Georgia's State agencies to recognize and express our appreciation for their efforts on behalf of the citizens of the Golden Isles.
X-ALT-DESC;FMTTYPE=text/html:<div style="text-align: center\;">Business leaders and elected officials from Brunswick and Glynn County will host a dinner at The Depot for key members of the Georgia General Assembly and officials of Georgia&rsquo\;s State agencies to recognize and express our appreciation for their efforts on behalf of the citizens of the Golden Isles.<br />\n&nbsp\;</div>\n\n<div style="text-align: center\;">&nbsp\;</div>\n
LOCATION:
UID:e.620.14969
SEQUENCE:3
DTSTAMP:20260420T160752Z
URL:https://chamber.brunswickgoldenisleschamber.com/events/details/2025-state-capitol-visit-14969
END:VEVENT

END:VCALENDAR
