BEGIN:VCALENDAR
VERSION:2.0
PRODID:-//ChamberMaster//Event Calendar 2.0//EN
METHOD:PUBLISH
X-PUBLISHED-TTL:P3D
REFRESH-INTERVAL:P3D
CALSCALE:GREGORIAN
BEGIN:VEVENT
DTSTART;VALUE=DATE:20230908
DTEND;VALUE=DATE:20230909
TRANSP:TRANSPARENT
X-MICROSOFT-CDO-ALLDAYEVENT:TRUE
SUMMARY:2023 Chamber Annual Golf Tournament
DESCRIPTION:Join us for the Brunswick-Golden Isles Chamber of Commerce's 38th Annual Golf Tournament at Pine Lakes Golf Course on Jekyll Island. \nFORMAT OF PLAY:\n\n4 Man Scramble: Each player must place their ball within one club length of where original ball lays.\n\n\n\nSCHEDULE OF EVENTS:\n\n9:30-10:30 AM     Registration\n\n10:45 AM             Pre-Match Ball Drop\n\n11:00 AM             Shotgun Start (with Box Lunches on the Course)\n\n4:30 PM               The After Party & Awards
X-ALT-DESC;FMTTYPE=text/html:<p><span style="font-size:14px\;"><span style="font-family:arial\;"><span style="background-image:initial\;background-position:initial\;background-size:initial\;background-repeat:initial\;background-attachment:initial\;background-origin:initial\;background-clip:initial\;">Join us for the Brunswick-Golden Isles Chamber of Commerce&#39\;s 38th Annual Golf Tournament&nbsp\;at Pine Lakes Golf Course on Jekyll Island.&nbsp\;</span></span></span></p>\n<strong>FORMAT OF PLAY:</strong><br />\n4 Man Scramble: Each player must place their ball within one club length of where original ball lays.<br />\n<br />\n<strong>SCHEDULE OF EVENTS:</strong><br />\n9:30-10:30 AM &nbsp\;&nbsp\;&nbsp\;&nbsp\;Registration<br />\n10:45 AM &nbsp\;&nbsp\;&nbsp\;&nbsp\;&nbsp\;&nbsp\;&nbsp\;&nbsp\;&nbsp\;&nbsp\;&nbsp\;&nbsp\;Pre-Match Ball Drop<br />\n11:00 AM &nbsp\;&nbsp\;&nbsp\;&nbsp\;&nbsp\;&nbsp\;&nbsp\;&nbsp\;&nbsp\;&nbsp\;&nbsp\;&nbsp\;Shotgun Start (with Box Lunches on the Course)<br />\n4:30 PM&nbsp\;&nbsp\;&nbsp\;&nbsp\;&nbsp\;&nbsp\;&nbsp\;&nbsp\;&nbsp\;&nbsp\;&nbsp\;&nbsp\;&nbsp\;&nbsp\; The After Party &amp\; Awards
LOCATION:Pine Lakes Golf Course 322 Captain Wylly Rd. Jekyll Island\, GA 31527
UID:e.620.13299
SEQUENCE:3
DTSTAMP:20260423T021521Z
URL:https://chamber.brunswickgoldenisleschamber.com/events/details/2023-chamber-annual-golf-tournament-13299
END:VEVENT

END:VCALENDAR
